BEGIN:VCALENDAR
VERSION:2.0
PRODID:-//Chevrolet Car Club of Victoria - ECPv4.9.10//NONSGML v1.0//EN
CALSCALE:GREGORIAN
METHOD:PUBLISH
X-WR-CALNAME:Chevrolet Car Club of Victoria
X-ORIGINAL-URL:https://www.chevcarclubvic.org.au
X-WR-CALDESC:Events for Chevrolet Car Club of Victoria
BEGIN:VTIMEZONE
TZID:Australia/Melbourne
BEGIN:STANDARD
TZOFFSETFROM:+1100
TZOFFSETTO:+1000
TZNAME:AEST
DTSTART:20200404T160000
END:STANDARD
BEGIN:DAYLIGHT
TZOFFSETFROM:+1000
TZOFFSETTO:+1100
TZNAME:AEDT
DTSTART:20201003T160000
END:DAYLIGHT
END:VTIMEZONE
BEGIN:VEVENT
DTSTART;VALUE=DATE:20200202
DTEND;VALUE=DATE:20200203
DTSTAMP:20260419T130210
CREATED:20200102T015901Z
LAST-MODIFIED:20200102T015901Z
UID:14788-1580601600-1580687999@www.chevcarclubvic.org.au
SUMMARY:Swanpool Motor Festival
DESCRIPTION:The Albert Heaney Oval Committee invite you and your club members to attend our Festival on Sunday 2nd February 2020 from 8am to 2pm. \n  \nThe Swanpool Motor Festival is a community event run by locals to raise funds to upkeep the oval and facilities.  Local CFA Brigades and the Primary School all share in the proceeds on the day. \n  \nThe Festival concept is to park your display vehicle on the oval ($5 entry) and share in the prize pool exceeding $2000.  Owners and members of the public are encouraged to look at the other display vehicles\, mingle and enjoy yourself in a relaxed country setting\, partaking in local food\, wine\, coffee\, visiting the swap meet and market stalls\, whilst listening to a band and the live broadcast from Radio Mansfield 99.7FM. \nShannons Insurance are one of our sponsors\, providing show bags with merchandise from our other sponsors along with the public choice trophy. \nDisplay cars must be parked before 11 am and must remain on the oval until 1pm when the prize winners will be announced. \nI hope that you and your club members will attend our Festival and I look forward to meeting each of you and your vehicles on the day. \nIf you are concerned that the weather might be warm then you can relax in the air-conditioned pavilion\, enjoying morning tea or lunch with the reassurance that the oval will be surrounded with the three local CFA Brigades\, Swanpool\, Samaria and Lima South\, taking gold coin donations at the gates. \nEntry for display vehicles is via Swanpool-Lima Road which is at the southern end of the Swanpool Football Ground. \nRoss Coles \nSwanpool Motor Festival Committee \n0417351304 \n
URL:https://www.chevcarclubvic.org.au/event/swanpool-motor-festival/
END:VEVENT
END:VCALENDAR