BEGIN:VCALENDAR
VERSION:2.0
PRODID:-//Chevrolet Car Club of Victoria - ECPv4.9.10//NONSGML v1.0//EN
CALSCALE:GREGORIAN
METHOD:PUBLISH
X-WR-CALNAME:Chevrolet Car Club of Victoria
X-ORIGINAL-URL:https://www.chevcarclubvic.org.au
X-WR-CALDESC:Events for Chevrolet Car Club of Victoria
BEGIN:VTIMEZONE
TZID:Australia/Melbourne
BEGIN:STANDARD
TZOFFSETFROM:+1100
TZOFFSETTO:+1000
TZNAME:AEST
DTSTART:20240406T160000
END:STANDARD
BEGIN:DAYLIGHT
TZOFFSETFROM:+1000
TZOFFSETTO:+1100
TZNAME:AEDT
DTSTART:20241005T160000
END:DAYLIGHT
END:VTIMEZONE
BEGIN:VEVENT
DTSTART;TZID=Australia/Melbourne:20240218T080000
DTEND;TZID=Australia/Melbourne:20240218T150000
DTSTAMP:20260421T075615
CREATED:20231203T093205Z
LAST-MODIFIED:20240213T123830Z
UID:19333-1708243200-1708268400@www.chevcarclubvic.org.au
SUMMARY:The All American Car Display (Gembrook)
DESCRIPTION:If you want to join the Chevrolet Car Club convoy we will meet at the BP Garage outbound on the Monash Fwy Officer. \nWe are planning on a 8.am departure.  Keith  Taylor  0421 287 350 \n
URL:https://www.chevcarclubvic.org.au/event/the-all-american-car-display-gembrook/
ATTACH;FMTTYPE=image/jpeg:https://www.chevcarclubvic.org.au/wp-content/uploads/2023/12/All-American-A5-Flyer-2024-3.jpg
END:VEVENT
END:VCALENDAR