BEGIN:VCALENDAR
VERSION:2.0
PRODID:-//Chevrolet Car Club of Victoria - ECPv4.9.10//NONSGML v1.0//EN
CALSCALE:GREGORIAN
METHOD:PUBLISH
X-WR-CALNAME:Chevrolet Car Club of Victoria
X-ORIGINAL-URL:https://www.chevcarclubvic.org.au
X-WR-CALDESC:Events for Chevrolet Car Club of Victoria
BEGIN:VTIMEZONE
TZID:Australia/Melbourne
BEGIN:STANDARD
TZOFFSETFROM:+1100
TZOFFSETTO:+1000
TZNAME:AEST
DTSTART:20210403T160000
END:STANDARD
BEGIN:DAYLIGHT
TZOFFSETFROM:+1000
TZOFFSETTO:+1100
TZNAME:AEDT
DTSTART:20211002T160000
END:DAYLIGHT
END:VTIMEZONE
BEGIN:VEVENT
DTSTART;TZID=Australia/Melbourne:20210321T120000
DTEND;TZID=Australia/Melbourne:20210321T180000
DTSTAMP:20260419T183725
CREATED:20210115T112119Z
LAST-MODIFIED:20210115T112119Z
UID:16836-1616328000-1616349600@www.chevcarclubvic.org.au
SUMMARY:Tongala’s Beersheba Rod\, Custom & Classic Car & Bike Show
DESCRIPTION:Tongala’s Beersheba Rod\, Custom & Classic Car & Bike Show \nSunday 21st March 2021 \nMidday to 6pm \nShire Lawns\, Henderson Road\, Tongala \nPrizes for Best Rod\, Best Custom\, Best Classic\, Best Bike\, Best other also People’s Choice Award and Sponsors Choice Award      \nGeneral enquiries or pre-entry forms Ph 0499384272 orjb@tongalas.own.net.au \nLive Music\, Licenced Bar\, *NO BYO*\, Food Stalls\, Raffles and Prizes and More \n Tongala home of the National 3rd Cavalry memorial (Vietnam War) and Historic Murals \n
URL:https://www.chevcarclubvic.org.au/event/tongalas-beersheba-rod-custom-classic-car-bike-show/
END:VEVENT
END:VCALENDAR