BEGIN:VCALENDAR
VERSION:2.0
PRODID:-//Chevrolet Car Club of Victoria - ECPv4.9.10//NONSGML v1.0//EN
CALSCALE:GREGORIAN
METHOD:PUBLISH
X-WR-CALNAME:Chevrolet Car Club of Victoria
X-ORIGINAL-URL:https://www.chevcarclubvic.org.au
X-WR-CALDESC:Events for Chevrolet Car Club of Victoria
BEGIN:VTIMEZONE
TZID:Australia/Melbourne
BEGIN:STANDARD
TZOFFSETFROM:+1100
TZOFFSETTO:+1000
TZNAME:AEST
DTSTART:20200404T160000
END:STANDARD
BEGIN:DAYLIGHT
TZOFFSETFROM:+1000
TZOFFSETTO:+1100
TZNAME:AEDT
DTSTART:20201003T160000
END:DAYLIGHT
END:VTIMEZONE
BEGIN:VEVENT
DTSTART;TZID=Australia/Melbourne:20200308T070000
DTEND;TZID=Australia/Melbourne:20200308T170000
DTSTAMP:20260419T143500
CREATED:20200102T020927Z
LAST-MODIFIED:20200102T020927Z
UID:14790-1583650800-1583686800@www.chevcarclubvic.org.au
SUMMARY:Tyabb Air Show
DESCRIPTION:  \nThe Peninsula Aero Club in Tyabb is holding its next Air Show on Sunday March 8\, 2020\, \nFor this Air Show\, and as with previous Air Shows\, numbers of display vehicles are limited so it is imperative that you pre-book to get your name on the list. To put yourself on the list\, contact Keith Taylor on 0421287350 \n  \nThe meeting point for Chev Club members is the car parks and entrance road at the front of Bunguyan Reserve\, Tyabb (Tyabb Football Ground) on the Frankston Flinders Rd\, on the left just as you come into Tyabb heading South. \nEntry passes will be distributed at this meeting point only. \nMeet at 7.00am at Bunguyan Reserve Tyabb\, depart at 7.15am sharp\,  from the meeting point (Bunguyan Reserve) into the Air Show.Tyabb Air Show Vehicle Display Entry Information G3 \n
URL:https://www.chevcarclubvic.org.au/event/tyabb-air-show/
CATEGORIES:Club Event
END:VEVENT
END:VCALENDAR