BEGIN:VCALENDAR
VERSION:2.0
PRODID:-//Chevrolet Car Club of Victoria - ECPv4.9.10//NONSGML v1.0//EN
CALSCALE:GREGORIAN
METHOD:PUBLISH
X-WR-CALNAME:Chevrolet Car Club of Victoria
X-ORIGINAL-URL:https://www.chevcarclubvic.org.au
X-WR-CALDESC:Events for Chevrolet Car Club of Victoria
BEGIN:VTIMEZONE
TZID:Australia/Melbourne
BEGIN:STANDARD
TZOFFSETFROM:+1100
TZOFFSETTO:+1000
TZNAME:AEST
DTSTART:20230401T160000
END:STANDARD
BEGIN:DAYLIGHT
TZOFFSETFROM:+1000
TZOFFSETTO:+1100
TZNAME:AEDT
DTSTART:20230930T160000
END:DAYLIGHT
END:VTIMEZONE
BEGIN:VEVENT
DTSTART;TZID=Australia/Melbourne:20231022T123000
DTEND;TZID=Australia/Melbourne:20231022T153000
DTSTAMP:20260421T075010
CREATED:20230702T122859Z
LAST-MODIFIED:20231001T081903Z
UID:18980-1697977800-1697988600@www.chevcarclubvic.org.au
SUMMARY:Lunch Upper Beaconsfield
DESCRIPTION:Lunch 12:30 at Pine Grove Hotel (45-51 Stoney Creek Rd\, Upper Beaconsfield). \nFor those wishing to travel in convoy\, meet Warragul Railway Station car park\, aiming to leave 11:15am. \nTo book\, Ring Neil Titford on 0439 047 383 \n
URL:https://www.chevcarclubvic.org.au/event/upper-beaconsfield/
CATEGORIES:Chevrolet Car Club,Club Event,Gippsland Latrobe Valley
END:VEVENT
END:VCALENDAR