BEGIN:VCALENDAR
VERSION:2.0
PRODID:-//Chevrolet Car Club of Victoria - ECPv4.9.10//NONSGML v1.0//EN
CALSCALE:GREGORIAN
METHOD:PUBLISH
X-WR-CALNAME:Chevrolet Car Club of Victoria
X-ORIGINAL-URL:https://www.chevcarclubvic.org.au
X-WR-CALDESC:Events for Chevrolet Car Club of Victoria
BEGIN:VTIMEZONE
TZID:Australia/Melbourne
BEGIN:STANDARD
TZOFFSETFROM:+1100
TZOFFSETTO:+1000
TZNAME:AEST
DTSTART:20170401T160000
END:STANDARD
BEGIN:DAYLIGHT
TZOFFSETFROM:+1000
TZOFFSETTO:+1100
TZNAME:AEDT
DTSTART:20170930T160000
END:DAYLIGHT
END:VTIMEZONE
BEGIN:VEVENT
DTSTART;TZID=Australia/Melbourne:20171119T110000
DTEND;TZID=Australia/Melbourne:20171119T170000
DTSTAMP:20260421T084956
CREATED:20171011T110857Z
LAST-MODIFIED:20171011T110857Z
UID:13211-1511089200-1511110800@www.chevcarclubvic.org.au
SUMMARY:Vic Vettes Xmas party
DESCRIPTION:                        \n               2017 VIC VETTES CHRISTMAS PARTY \n               It’s that time of year again and where going back to Neil and Melissa’s place \n               Sunday 19th November \n               41 Turramurra Road Maryknoll \n                 (enter via Liameina Rd) \n               R.S.V.P 12th Nov.  Neil 0418395881 \n
URL:https://www.chevcarclubvic.org.au/event/vic-vettes-xmas-party/
CATEGORIES:Club Event,Vic Vettes
END:VEVENT
END:VCALENDAR