BEGIN:VCALENDAR
VERSION:2.0
PRODID:-//Chevrolet Car Club of Victoria - ECPv4.9.10//NONSGML v1.0//EN
CALSCALE:GREGORIAN
METHOD:PUBLISH
X-WR-CALNAME:Chevrolet Car Club of Victoria
X-ORIGINAL-URL:https://www.chevcarclubvic.org.au
X-WR-CALDESC:Events for Chevrolet Car Club of Victoria
BEGIN:VTIMEZONE
TZID:Australia/Melbourne
BEGIN:STANDARD
TZOFFSETFROM:+1100
TZOFFSETTO:+1000
TZNAME:AEST
DTSTART:20250405T160000
END:STANDARD
BEGIN:DAYLIGHT
TZOFFSETFROM:+1000
TZOFFSETTO:+1100
TZNAME:AEDT
DTSTART:20251004T160000
END:DAYLIGHT
END:VTIMEZONE
BEGIN:VEVENT
DTSTART;TZID=Australia/Melbourne:20250803T090000
DTEND;TZID=Australia/Melbourne:20250803T170000
DTSTAMP:20260419T223826
CREATED:20250624T030711Z
LAST-MODIFIED:20250624T031057Z
UID:20465-1754211600-1754240400@www.chevcarclubvic.org.au
SUMMARY:Victorian Maritime Centre
DESCRIPTION:THE VICTORIAN MARITIME CENTRE SUNDAY 3rd AUGUST\nis our AUGUST CLUB RUN\nThis will be a great run with the added bonus of checking out some of our\nmaritime history at a very famous Peninsula Port area.\nThe aim is to meet at the Club Rooms around 9am\, catch up with the chatter\, then an easy group drive to the Centre arriving at around 10am.\nVictorian Maritime Centre 0476 109 223.\n220 The Esplanade Crib Point \nThe entry cost is $15 p/p which includes coffee and cake which will be supplied\non our arrival then\, it’s up to us to browse the various exhibits.\nAt around noon we will rejoin as a group and head off to Hastings for lunch\nat…..\nThe Westernport Hotel 59791201\n16 High St Hastings\nThis should take around 20 min and there is ample parking at the rear.\nAfter lunch if it takes your fancy it is only a short stroll from the Hotel to the\nHastings foreshore and Westernport Marina\nAll in all\, this will be a great day for all to enjoy\nAs numbers are critical please email me your intentions to go as will have to\nfirm up numbers at the Maritime Centre re the refreshments on arrival.\nIan 0419 534 765 iancole1946@outlook.com \n
URL:https://www.chevcarclubvic.org.au/event/victorian-maritime-centre/
CATEGORIES:Club Event
END:VEVENT
END:VCALENDAR