BEGIN:VCALENDAR
VERSION:2.0
PRODID:-//Chevrolet Car Club of Victoria - ECPv4.9.10//NONSGML v1.0//EN
CALSCALE:GREGORIAN
METHOD:PUBLISH
X-WR-CALNAME:Chevrolet Car Club of Victoria
X-ORIGINAL-URL:https://www.chevcarclubvic.org.au
X-WR-CALDESC:Events for Chevrolet Car Club of Victoria
BEGIN:VTIMEZONE
TZID:Australia/Melbourne
BEGIN:STANDARD
TZOFFSETFROM:+1100
TZOFFSETTO:+1000
TZNAME:AEST
DTSTART:20220402T160000
END:STANDARD
BEGIN:DAYLIGHT
TZOFFSETFROM:+1000
TZOFFSETTO:+1100
TZNAME:AEDT
DTSTART:20221001T160000
END:DAYLIGHT
END:VTIMEZONE
BEGIN:VEVENT
DTSTART;TZID=Australia/Melbourne:20221211T100000
DTEND;TZID=Australia/Melbourne:20221211T170000
DTSTAMP:20260419T161914
CREATED:20221027T081706Z
LAST-MODIFIED:20221027T081706Z
UID:18279-1670752800-1670778000@www.chevcarclubvic.org.au
SUMMARY:VicVettes Christmas Party
DESCRIPTION:Now that the Covid threat has diminished we are reviving the VicVettes Christmas party\, however as Neil and Melisa have moved to sunnier climes the venue for this year will be the clubrooms in Moorabbin. \nWe are still putting it all together so more details will be provided as things progress. \n For now all you need to know is \nwhere : clubrooms  \nwhen : 11th December from around 10ish \nfood : yes it will be a catered event with hot food \nrsvp : Chris Sultana 0410619207 \n
URL:https://www.chevcarclubvic.org.au/event/vicvettes-christmas-party/
CATEGORIES:Club Event,Vic Vettes
END:VEVENT
END:VCALENDAR