BEGIN:VCALENDAR
VERSION:2.0
PRODID:-//Chevrolet Car Club of Victoria - ECPv4.9.10//NONSGML v1.0//EN
CALSCALE:GREGORIAN
METHOD:PUBLISH
X-WR-CALNAME:Chevrolet Car Club of Victoria
X-ORIGINAL-URL:https://www.chevcarclubvic.org.au
X-WR-CALDESC:Events for Chevrolet Car Club of Victoria
BEGIN:VTIMEZONE
TZID:Australia/Melbourne
BEGIN:STANDARD
TZOFFSETFROM:+1100
TZOFFSETTO:+1000
TZNAME:AEST
DTSTART:20240406T160000
END:STANDARD
BEGIN:DAYLIGHT
TZOFFSETFROM:+1000
TZOFFSETTO:+1100
TZNAME:AEDT
DTSTART:20241005T160000
END:DAYLIGHT
END:VTIMEZONE
BEGIN:VEVENT
DTSTART;TZID=Australia/Melbourne:20240302T083000
DTEND;TZID=Australia/Melbourne:20240302T150000
DTSTAMP:20260421T040342
CREATED:20240204T062250Z
LAST-MODIFIED:20240204T062250Z
UID:19489-1709368200-1709391600@www.chevcarclubvic.org.au
SUMMARY:Warragul Agricultural Show
DESCRIPTION:Once again\, our club has been invited to set up a Show & Shine display for the general public attending the Warragul Show. We will have the club marquee and banner up to promote the club and also have an esky on hand to store your odd bottle of wine and cheese platters to keep members occupied as we sit down to natter and generally sit back\, relax and watch the show’s goings on. \nFor further details\, ring Neil Titford on 0439 047 383. \n
URL:https://www.chevcarclubvic.org.au/event/warragul-agricultural-show/
CATEGORIES:Club Event,Gippsland Latrobe Valley
END:VEVENT
END:VCALENDAR