BEGIN:VCALENDAR
VERSION:2.0
PRODID:-//Chevrolet Car Club of Victoria - ECPv4.9.10//NONSGML v1.0//EN
CALSCALE:GREGORIAN
METHOD:PUBLISH
X-WR-CALNAME:Chevrolet Car Club of Victoria
X-ORIGINAL-URL:https://www.chevcarclubvic.org.au
X-WR-CALDESC:Events for Chevrolet Car Club of Victoria
BEGIN:VTIMEZONE
TZID:Europe/Paris
BEGIN:DAYLIGHT
TZOFFSETFROM:+0100
TZOFFSETTO:+0200
TZNAME:CEST
DTSTART:20180325T010000
END:DAYLIGHT
BEGIN:STANDARD
TZOFFSETFROM:+0200
TZOFFSETTO:+0100
TZNAME:CET
DTSTART:20181028T010000
END:STANDARD
END:VTIMEZONE
BEGIN:VEVENT
DTSTART;TZID=Europe/Paris:20181218T183000
DTEND;TZID=Europe/Paris:20181218T220000
DTSTAMP:20260424T231523
CREATED:20150802T230045Z
LAST-MODIFIED:20181217T041644Z
UID:13937-1545157800-1545170400@www.chevcarclubvic.org.au
SUMMARY:Camaro / Firebird / Trans Am Group Monthly Meeting
DESCRIPTION:\nMeet at the Moorabbin clubrooms. at 6.00pm for a 6.30pm departure to the Chelsea Heights Hotel for our Christmas dinner. Meals at pub prices and first drinks are paid by the Camaro/Firebird group \n
URL:https://www.chevcarclubvic.org.au/event/camaro-firebird-trans-am-group-monthly-meeting-2020-12-15/
LOCATION:Club Headquarters\, 3 Edgecombe Court\, Moorabbin\, Victoria\, 3189\, Australia
CATEGORIES:Camaro Firebird Group,Club Event,Club Meeting
GEO:-37.942089;145.071267
X-APPLE-STRUCTURED-LOCATION;VALUE=URI;X-ADDRESS=Club Headquarters 3 Edgecombe Court Moorabbin Victoria 3189 Australia;X-APPLE-RADIUS=500;X-TITLE=3 Edgecombe Court:geo:145.071267,-37.942089
END:VEVENT
END:VCALENDAR